View In:
ArcGIS JavaScript
ArcGIS Online Map Viewer
ArcGIS Earth
ArcMap
View Footprint In:
ArcGIS Online Map Viewer
Service Description: ADEM_MoccasinBayou_Index_NDVI
Name: ADEM_MoccasinBayou_Index_NDVI
Description:
Single Fused Map Cache: false
Extent:
XMin: 442431.688
YMin: 3358131.60118
XMax: 442987.04374000005
YMax: 3359167.67322
Spatial Reference: 32616
(32616)
Initial Extent:
XMin: 442431.688
YMin: 3358131.60118
XMax: 442987.04374000005
YMax: 3359167.67322
Spatial Reference: 32616
(32616)
Full Extent:
XMin: 442431.688
YMin: 3358131.60118
XMax: 442987.04374000005
YMax: 3359167.67322
Spatial Reference: 32616
(32616)
Pixel Size X: 0.02902000000000147
Pixel Size Y: 0.029019999999999976
Band Count: 1
Pixel Type: F32
RasterFunction Infos: {"rasterFunctionInfos": [{
"name": "None",
"description": "",
"help": ""
}]}
Mensuration Capabilities: Basic
Has Histograms: true
Has Colormap: false
Has Multi Dimensions : false
Rendering Rule:
Min Scale: 0
Max Scale: 0
Copyright Text:
Service Data Type: esriImageServiceDataTypeGeneric
Min Values: -0.63646274805069
Max Values: 0.99698084592819
Mean Values: 0.58996499483433
Standard Deviation Values: 0.32481818170444
Object ID Field:
Fields:
None
Default Mosaic Method: Center
Allowed Mosaic Methods:
SortField:
SortValue: null
Mosaic Operator: First
Default Compression Quality: 75
Default Resampling Method: Bilinear
Max Record Count: null
Max Image Height: 4100
Max Image Width: 15000
Max Download Image Count: null
Max Mosaic Image Count: null
Allow Raster Function: true
Allow Copy: true
Allow Analysis: true
Allow Compute TiePoints: false
Supports Statistics: false
Supports Advanced Queries: false
Use StandardizedQueries: true
Raster Type Infos:
Name: Raster Dataset
Description: Supports all ArcGIS Raster Datasets
Help:
Has Raster Attribute Table: false
Edit Fields Info: null
Ownership Based AccessControl For Rasters: null
Child Resources:
Info
Histograms
Statistics
Key Properties
Legend
Raster Function Infos
Supported Operations:
Export Image
Identify
Measure
Compute Histograms
Compute Statistics Histograms
Get Samples
Compute Class Statistics
Query Boundary
Compute Pixel Location
Validate
Project