View In:
ArcGIS JavaScript
ArcGIS Online Map Viewer
ArcGIS Earth
ArcMap
View Footprint In:
ArcGIS Online Map Viewer
Service Description: ADEM_MoccasinBayou_10162026_orthomosaic_tiff
Name: ADEM_MoccasinBayou_10162026_orthomosaic_tiff
Description:
Single Fused Map Cache: false
Extent:
XMin: 442391.79248046875
YMin: 3358083.0520374607
XMax: 443042.04354046873
YMax: 3359215.644897461
Spatial Reference: 32616
(32616)
Initial Extent:
XMin: 442391.79248046875
YMin: 3358083.0520374607
XMax: 443042.04354046873
YMax: 3359215.644897461
Spatial Reference: 32616
(32616)
Full Extent:
XMin: 442391.79248046875
YMin: 3358083.0520374607
XMax: 443042.04354046873
YMax: 3359215.644897461
Spatial Reference: 32616
(32616)
Pixel Size X: 0.030859999999999076
Pixel Size Y: 0.030860000000005668
Band Count: 4
Pixel Type: U8
RasterFunction Infos: {"rasterFunctionInfos": [{
"name": "None",
"description": "",
"help": ""
}]}
Mensuration Capabilities: Basic
Has Histograms: true
Has Colormap: false
Has Multi Dimensions : false
Rendering Rule:
Min Scale: 0
Max Scale: 0
Copyright Text:
Service Data Type: esriImageServiceDataTypeGeneric
Min Values: 0, 0, 0, 0
Max Values: 255, 255, 255, 255
Mean Values: 89.26214542634, 94.220280572663, 66.775076988817, 198.84612890891
Standard Deviation Values: 65.495752918258, 62.108843715647, 53.160353165511, 105.66920035729
Object ID Field:
Fields:
None
Default Mosaic Method: Center
Allowed Mosaic Methods:
SortField:
SortValue: null
Mosaic Operator: First
Default Compression Quality: 75
Default Resampling Method: Bilinear
Max Record Count: null
Max Image Height: 4100
Max Image Width: 15000
Max Download Image Count: null
Max Mosaic Image Count: null
Allow Raster Function: true
Allow Copy: true
Allow Analysis: true
Allow Compute TiePoints: false
Supports Statistics: false
Supports Advanced Queries: false
Use StandardizedQueries: true
Raster Type Infos:
Name: Raster Dataset
Description: Supports all ArcGIS Raster Datasets
Help:
Has Raster Attribute Table: false
Edit Fields Info: null
Ownership Based AccessControl For Rasters: null
Child Resources:
Info
Histograms
Statistics
Key Properties
Legend
Raster Function Infos
Supported Operations:
Export Image
Identify
Measure
Compute Histograms
Compute Statistics Histograms
Get Samples
Compute Class Statistics
Query Boundary
Compute Pixel Location
Validate
Project