View In:
ArcGIS JavaScript
ArcGIS Online Map Viewer
ArcGIS Earth
ArcMap
View Footprint In:
ArcGIS Online Map Viewer
Service Description: Sardine_Pit_North_04092025_transparent_mosaic_group1_tif
Name: Sardine_Pit_North_04092025_transparent_mosaic_group1_tif
Description:
Single Fused Map Cache: false
Extent:
XMin: 2009175.8265900002
YMin: 426873.84123
XMax: 2015185.4202900003
YMax: 437105.12303
Spatial Reference: 102630
(102630)
Initial Extent:
XMin: 2009175.8265900002
YMin: 426873.84123
XMax: 2015185.4202900003
YMax: 437105.12303
Spatial Reference: 102630
(102630)
Full Extent:
XMin: 2009175.8265900002
YMin: 426873.84123
XMax: 2015185.4202900003
YMax: 437105.12303
Spatial Reference: 102630
(102630)
Pixel Size X: 0.09995000000000141
Pixel Size Y: 0.09994999999999997
Band Count: 4
Pixel Type: U8
RasterFunction Infos: {"rasterFunctionInfos": [{
"name": "None",
"description": "",
"help": ""
}]}
Mensuration Capabilities: Basic
Has Histograms: true
Has Colormap: false
Has Multi Dimensions : false
Rendering Rule:
Min Scale: 0
Max Scale: 0
Copyright Text:
Service Data Type: esriImageServiceDataTypeGeneric
Min Values: 0, 0, 0, 0
Max Values: 255, 255, 255, 255
Mean Values: 64.852493351825, 63.805513937748, 50.620670275404, 137.15254688619
Standard Deviation Values: 69.699972598525, 67.409838652491, 58.165208643573, 127.13409590364
Object ID Field:
Fields:
None
Default Mosaic Method: Center
Allowed Mosaic Methods:
SortField:
SortValue: null
Mosaic Operator: First
Default Compression Quality: 75
Default Resampling Method: Bilinear
Max Record Count: null
Max Image Height: 4100
Max Image Width: 15000
Max Download Image Count: null
Max Mosaic Image Count: null
Allow Raster Function: true
Allow Copy: true
Allow Analysis: true
Allow Compute TiePoints: false
Supports Statistics: false
Supports Advanced Queries: false
Use StandardizedQueries: true
Raster Type Infos:
Name: Raster Dataset
Description: Supports all ArcGIS Raster Datasets
Help:
Has Raster Attribute Table: false
Edit Fields Info: null
Ownership Based AccessControl For Rasters: null
Child Resources:
Info
Histograms
Statistics
Key Properties
Legend
Raster Function Infos
Supported Operations:
Export Image
Identify
Measure
Compute Histograms
Compute Statistics Histograms
Get Samples
Compute Class Statistics
Query Boundary
Compute Pixel Location
Validate
Project