View In:
ArcGIS JavaScript
ArcGIS Online Map Viewer
ArcGIS Earth
ArcMap
View Footprint In:
ArcGIS Online Map Viewer
Service Description: Mims_Pit_Image
Name: Mims_Pit_Image
Description:
Single Fused Map Cache: false
Extent:
XMin: 529100.059082031
YMin: 3608119.90176625
XMax: 534493.682062031
YMax: 3616084.37890625
Spatial Reference: 32616
(32616)
Initial Extent:
XMin: 529100.059082031
YMin: 3608119.90176625
XMax: 534493.682062031
YMax: 3616084.37890625
Spatial Reference: 32616
(32616)
Full Extent:
XMin: 529100.059082031
YMin: 3608119.90176625
XMax: 534493.682062031
YMax: 3616084.37890625
Spatial Reference: 32616
(32616)
Pixel Size X: 0.03361999999999991
Pixel Size Y: 0.03362000000000038
Band Count: 4
Pixel Type: U8
RasterFunction Infos: {"rasterFunctionInfos": [{
"name": "None",
"description": "",
"help": ""
}]}
Mensuration Capabilities: Basic
Has Histograms: true
Has Colormap: false
Has Multi Dimensions : false
Rendering Rule:
Min Scale: 0
Max Scale: 0
Copyright Text:
Service Data Type: esriImageServiceDataTypeGeneric
Min Values: 1, 1, 1, 255
Max Values: 255, 255, 255, 255
Mean Values: 114.02803562349, 124.89456885092, 77.340127718554, 255
Standard Deviation Values: 49.534388277728, 39.619988080476, 43.935584565963, 0
Object ID Field:
Fields:
None
Default Mosaic Method: Center
Allowed Mosaic Methods:
SortField:
SortValue: null
Mosaic Operator: First
Default Compression Quality: 75
Default Resampling Method: Bilinear
Max Record Count: null
Max Image Height: 4100
Max Image Width: 15000
Max Download Image Count: null
Max Mosaic Image Count: null
Allow Raster Function: true
Allow Copy: true
Allow Analysis: true
Allow Compute TiePoints: false
Supports Statistics: false
Supports Advanced Queries: false
Use StandardizedQueries: true
Raster Type Infos:
Name: Raster Dataset
Description: Supports all ArcGIS Raster Datasets
Help:
Has Raster Attribute Table: false
Edit Fields Info: null
Ownership Based AccessControl For Rasters: null
Child Resources:
Info
Histograms
Statistics
Key Properties
Legend
Raster Function Infos
Supported Operations:
Export Image
Identify
Measure
Compute Histograms
Compute Statistics Histograms
Get Samples
Compute Class Statistics
Query Boundary
Compute Pixel Location
Validate
Project