View In:
ArcGIS JavaScript
ArcGIS Online Map Viewer
ArcGIS Earth
ArcMap
View Footprint In:
ArcGIS Online Map Viewer
Service Description: ADEM_Prattville_March_2024_transparent_mosaic_group1_tif
Name: ADEM_Prattville_March_2024_transparent_mosaic_group1_tif
Description:
Single Fused Map Cache: false
Extent:
XMin: 528205.1239
YMin: 3596887.39041
XMax: 528817.93253
YMax: 3597799.57775
Spatial Reference: 32616
(32616)
Initial Extent:
XMin: 528205.1239
YMin: 3596887.39041
XMax: 528817.93253
YMax: 3597799.57775
Spatial Reference: 32616
(32616)
Full Extent:
XMin: 528205.1239
YMin: 3596887.39041
XMax: 528817.93253
YMax: 3597799.57775
Spatial Reference: 32616
(32616)
Pixel Size X: 0.018709999999999543
Pixel Size Y: 0.018710000000003665
Band Count: 4
Pixel Type: U8
RasterFunction Infos: {"rasterFunctionInfos": [{
"name": "None",
"description": "",
"help": ""
}]}
Mensuration Capabilities: Basic
Has Histograms: true
Has Colormap: false
Has Multi Dimensions : false
Rendering Rule:
Min Scale: 0
Max Scale: 0
Copyright Text:
Service Data Type: esriImageServiceDataTypeGeneric
Min Values: 0, 0, 0, 0
Max Values: 255, 255, 255, 255
Mean Values: 107.31385312712, 100.16891480193, 76.116732648648, 220.64497839383
Standard Deviation Values: 65.700708448909, 59.084212035257, 49.59698189866, 87.064705849969
Object ID Field:
Fields:
None
Default Mosaic Method: Center
Allowed Mosaic Methods:
SortField:
SortValue: null
Mosaic Operator: First
Default Compression Quality: 75
Default Resampling Method: Bilinear
Max Record Count: null
Max Image Height: 4100
Max Image Width: 15000
Max Download Image Count: null
Max Mosaic Image Count: null
Allow Raster Function: true
Allow Copy: true
Allow Analysis: true
Allow Compute TiePoints: false
Supports Statistics: false
Supports Advanced Queries: false
Use StandardizedQueries: true
Raster Type Infos:
Name: Raster Dataset
Description: Supports all ArcGIS Raster Datasets
Help:
Has Raster Attribute Table: false
Edit Fields Info: null
Ownership Based AccessControl For Rasters: null
Child Resources:
Info
Histograms
Statistics
Key Properties
Legend
Raster Function Infos
Supported Operations:
Export Image
Identify
Measure
Compute Histograms
Compute Statistics Histograms
Get Samples
Compute Class Statistics
Query Boundary
Compute Pixel Location
Validate
Project