View In:
ArcGIS JavaScript
ArcGIS Online Map Viewer
ArcGIS Earth
ArcMap
View Footprint In:
ArcGIS Online Map Viewer
Service Description: ADEM_Autaugaville_2_transparent_mosaic_group1_tif
Name: ADEM_Autaugaville_2_transparent_mosaic_group1_tif
Description:
Single Fused Map Cache: false
Extent:
XMin: 528910.7901100001
YMin: 3594216.7277
XMax: 529270.0884100001
YMax: 3594650.6038
Spatial Reference: 32616
(32616)
Initial Extent:
XMin: 528910.7901100001
YMin: 3594216.7277
XMax: 529270.0884100001
YMax: 3594650.6038
Spatial Reference: 32616
(32616)
Full Extent:
XMin: 528910.7901100001
YMin: 3594216.7277
XMax: 529270.0884100001
YMax: 3594650.6038
Spatial Reference: 32616
(32616)
Pixel Size X: 0.03110000000000208
Pixel Size Y: 0.031099999999999572
Band Count: 4
Pixel Type: U8
RasterFunction Infos: {"rasterFunctionInfos": [{
"name": "None",
"description": "",
"help": ""
}]}
Mensuration Capabilities: Basic
Has Histograms: true
Has Colormap: false
Has Multi Dimensions : false
Rendering Rule:
Min Scale: 0
Max Scale: 0
Copyright Text:
Service Data Type: esriImageServiceDataTypeGeneric
Min Values: 0, 0, 0, 0
Max Values: 255, 255, 255, 255
Mean Values: 91.938458374932, 86.441751835592, 60.110812588393, 216.15799267461
Standard Deviation Values: 69.365275411946, 59.708566663536, 46.635244033355, 91.629746190839
Object ID Field:
Fields:
None
Default Mosaic Method: Center
Allowed Mosaic Methods:
SortField:
SortValue: null
Mosaic Operator: First
Default Compression Quality: 75
Default Resampling Method: Bilinear
Max Record Count: null
Max Image Height: 4100
Max Image Width: 15000
Max Download Image Count: null
Max Mosaic Image Count: null
Allow Raster Function: true
Allow Copy: true
Allow Analysis: true
Allow Compute TiePoints: false
Supports Statistics: false
Supports Advanced Queries: false
Use StandardizedQueries: true
Raster Type Infos:
Name: Raster Dataset
Description: Supports all ArcGIS Raster Datasets
Help:
Has Raster Attribute Table: false
Edit Fields Info: null
Ownership Based AccessControl For Rasters: null
Child Resources:
Info
Histograms
Statistics
Key Properties
Legend
Raster Function Infos
Supported Operations:
Export Image
Identify
Measure
Compute Histograms
Compute Statistics Histograms
Get Samples
Compute Class Statistics
Query Boundary
Compute Pixel Location
Validate
Project