View In:
ArcGIS JavaScript
ArcGIS Online Map Viewer
ArcGIS Earth
ArcMap
View Footprint In:
ArcGIS Online Map Viewer
Service Description: ADEM_Autaugaville_08_30_2024_transparent_mosaic_group1_tif
Name: ADEM_Autaugaville_08_30_2024_transparent_mosaic_group1_tif
Description:
Single Fused Map Cache: false
Extent:
XMin: 529138.9695
YMin: 3594003.4239700004
XMax: 530278.48086
YMax: 3594635.8924300005
Spatial Reference: 32616
(32616)
Initial Extent:
XMin: 529138.9695
YMin: 3594003.4239700004
XMax: 530278.48086
YMax: 3594635.8924300005
Spatial Reference: 32616
(32616)
Full Extent:
XMin: 529138.9695
YMin: 3594003.4239700004
XMax: 530278.48086
YMax: 3594635.8924300005
Spatial Reference: 32616
(32616)
Pixel Size X: 0.03198000000000011
Pixel Size Y: 0.03198000000000607
Band Count: 4
Pixel Type: U8
RasterFunction Infos: {"rasterFunctionInfos": [{
"name": "None",
"description": "",
"help": ""
}]}
Mensuration Capabilities: Basic
Has Histograms: true
Has Colormap: false
Has Multi Dimensions : false
Rendering Rule:
Min Scale: 0
Max Scale: 0
Copyright Text:
Service Data Type: esriImageServiceDataTypeGeneric
Min Values: 0, 0, 0, 0
Max Values: 255, 255, 255, 255
Mean Values: 78.261108527023, 81.010595336905, 44.538903934866, 189.5843427596
Standard Deviation Values: 68.601660831552, 64.868863361291, 43.972032885015, 111.3632991686
Object ID Field:
Fields:
None
Default Mosaic Method: Center
Allowed Mosaic Methods:
SortField:
SortValue: null
Mosaic Operator: First
Default Compression Quality: 75
Default Resampling Method: Bilinear
Max Record Count: null
Max Image Height: 4100
Max Image Width: 15000
Max Download Image Count: null
Max Mosaic Image Count: null
Allow Raster Function: true
Allow Copy: true
Allow Analysis: true
Allow Compute TiePoints: false
Supports Statistics: false
Supports Advanced Queries: false
Use StandardizedQueries: true
Raster Type Infos:
Name: Raster Dataset
Description: Supports all ArcGIS Raster Datasets
Help:
Has Raster Attribute Table: false
Edit Fields Info: null
Ownership Based AccessControl For Rasters: null
Child Resources:
Info
Histograms
Statistics
Key Properties
Legend
Raster Function Infos
Supported Operations:
Export Image
Identify
Measure
Compute Histograms
Compute Statistics Histograms
Get Samples
Compute Class Statistics
Query Boundary
Compute Pixel Location
Validate
Project