{
 "currentVersion": 10.9,
 "serviceDescription": "ADEM_MoccasinBayou_10162026_orthomosaic_2_tif",
 "name": "ADEM_MoccasinBayou_10162026_orthomosaic_2_tif",
 "description": "",
 "extent": {
  "xmin": 442391.79248046875,
  "ymin": 3358083.0520374607,
  "xmax": 443042.04354046873,
  "ymax": 3359215.644897461,
  "spatialReference": {
   "wkid": 32616,
   "latestWkid": 32616
  }
 },
 "initialExtent": {
  "xmin": 442391.79248046875,
  "ymin": 3358083.0520374607,
  "xmax": 443042.04354046873,
  "ymax": 3359215.644897461,
  "spatialReference": {
   "wkid": 32616,
   "latestWkid": 32616
  }
 },
 "fullExtent": {
  "xmin": 442391.79248046875,
  "ymin": 3358083.0520374607,
  "xmax": 443042.04354046873,
  "ymax": 3359215.644897461,
  "spatialReference": {
   "wkid": 32616,
   "latestWkid": 32616
  }
 },
 "hasMultidimensions": false,
 "pixelSizeX": 0.030859999999999076,
 "pixelSizeY": 0.030860000000005668,
 "datasetFormat": "TIFF",
 "uncompressedSize": 3093307084,
 "blockWidth": 128,
 "blockHeight": 128,
 "compressionType": "None",
 "bandNames": [
  "Band_1",
  "Band_2",
  "Band_3",
  "Band_4"
 ],
 "allowCopy": true,
 "allowAnalysis": true,
 "bandCount": 4,
 "noDataValue": 0,
 "noDataValues": [
  0,
  0,
  0,
  0
 ],
 "pixelType": "U8",
 "minPixelSize": 0,
 "maxPixelSize": 0,
 "copyrightText": "",
 "serviceDataType": "esriImageServiceDataTypeGeneric",
 "serviceSourceType": "esriImageServiceSourceTypeDataset",
 "minValues": [
  1,
  1,
  1,
  255
 ],
 "maxValues": [
  255,
  255,
  255,
  255
 ],
 "meanValues": [
  114.46993341577,
  120.82796658124,
  85.642245428065,
  255
 ],
 "stdvValues": [
  51.142711313965,
  41.616238374983,
  44.81834261372,
  0
 ],
 "objectIdField": "",
 "fields": [],
 "capabilities": "Image,Metadata,Mensuration",
 "defaultMosaicMethod": "Center",
 "allowedMosaicMethods": "",
 "sortField": "",
 "sortValue": null,
 "sortAscending": true,
 "mosaicOperator": "First",
 "defaultCompressionQuality": 75,
 "defaultResamplingMethod": "Bilinear",
 "maxImageHeight": 4100,
 "maxImageWidth": 15000,
 "allowRasterFunction": true,
 "rasterFunctionInfos": [
  {
   "name": "None",
   "description": "",
   "help": ""
  }
 ],
 "rasterTypeInfos": [
  {
   "name": "Raster Dataset",
   "description": "Supports all ArcGIS Raster Datasets",
   "help": ""
  }
 ],
 "mensurationCapabilities": "Basic",
 "hasHistograms": true,
 "hasColormap": false,
 "hasRasterAttributeTable": false,
 "minScale": 0,
 "maxScale": 0,
 "exportTilesAllowed": false,
 "supportsStatistics": false,
 "supportsAdvancedQueries": false,
 "editFieldsInfo": null,
 "ownershipBasedAccessControlForRasters": null,
 "allowComputeTiePoints": false,
 "useStandardizedQueries": true,
 "advancedQueryCapabilities": {
  "useStandardizedQueries": true,
  "supportsStatistics": false,
  "supportsOrderBy": false,
  "supportsDistinct": false,
  "supportsPagination": false
 },
 "spatialReference": {
  "wkid": 32616,
  "latestWkid": 32616
 }
}
