{
 "currentVersion": 10.9,
 "serviceDescription": "ADEM_MoccasinBayou_10162026_dtm_tiff",
 "name": "ADEM_MoccasinBayou_10162026_dtm_tiff",
 "description": "",
 "extent": {
  "xmin": 442401.02032470703,
  "ymin": 3358083.0520374607,
  "xmax": 443041.149304707,
  "ymax": 3359215.644897461,
  "spatialReference": {
   "wkid": 32616,
   "latestWkid": 32616
  }
 },
 "initialExtent": {
  "xmin": 442401.02032470703,
  "ymin": 3358083.0520374607,
  "xmax": 443041.149304707,
  "ymax": 3359215.644897461,
  "spatialReference": {
   "wkid": 32616,
   "latestWkid": 32616
  }
 },
 "fullExtent": {
  "xmin": 442401.02032470703,
  "ymin": 3358083.0520374607,
  "xmax": 443041.149304707,
  "ymax": 3359215.644897461,
  "spatialReference": {
   "wkid": 32616,
   "latestWkid": 32616
  }
 },
 "hasMultidimensions": false,
 "pixelSizeX": 0.03085999999999901,
 "pixelSizeY": 0.030860000000005668,
 "datasetFormat": "TIFF",
 "uncompressedSize": 3045155372,
 "blockWidth": 512,
 "blockHeight": 512,
 "compressionType": "LZW",
 "bandNames": [
  "Band_1"
 ],
 "allowCopy": true,
 "allowAnalysis": true,
 "bandCount": 1,
 "noDataValue": "NaN",
 "noDataValues": [
  "NaN"
 ],
 "pixelType": "F32",
 "minPixelSize": 0,
 "maxPixelSize": 0,
 "copyrightText": "",
 "serviceDataType": "esriImageServiceDataTypeGeneric",
 "serviceSourceType": "esriImageServiceSourceTypeDataset",
 "minValues": [
  -43.913497924805
 ],
 "maxValues": [
  -9.5572204589844
 ],
 "meanValues": [
  -18.388631297531
 ],
 "stdvValues": [
  3.7689453187158
 ],
 "objectIdField": "",
 "fields": [],
 "capabilities": "Image,Metadata,Mensuration",
 "defaultMosaicMethod": "Center",
 "allowedMosaicMethods": "",
 "sortField": "",
 "sortValue": null,
 "sortAscending": true,
 "mosaicOperator": "First",
 "defaultCompressionQuality": 75,
 "defaultResamplingMethod": "Bilinear",
 "maxImageHeight": 4100,
 "maxImageWidth": 15000,
 "allowRasterFunction": true,
 "rasterFunctionInfos": [
  {
   "name": "None",
   "description": "",
   "help": ""
  }
 ],
 "rasterTypeInfos": [
  {
   "name": "Raster Dataset",
   "description": "Supports all ArcGIS Raster Datasets",
   "help": ""
  }
 ],
 "mensurationCapabilities": "Basic",
 "hasHistograms": true,
 "hasColormap": false,
 "hasRasterAttributeTable": false,
 "minScale": 0,
 "maxScale": 0,
 "exportTilesAllowed": false,
 "supportsStatistics": false,
 "supportsAdvancedQueries": false,
 "editFieldsInfo": null,
 "ownershipBasedAccessControlForRasters": null,
 "allowComputeTiePoints": false,
 "useStandardizedQueries": true,
 "advancedQueryCapabilities": {
  "useStandardizedQueries": true,
  "supportsStatistics": false,
  "supportsOrderBy": false,
  "supportsDistinct": false,
  "supportsPagination": false
 },
 "spatialReference": {
  "wkid": 32616,
  "latestWkid": 32616
 }
}
